BEGIN:VCALENDAR
VERSION:2.0
PRODID:-//Golden Triangle Quilt Guild - ECPv6.9.0//NONSGML v1.0//EN
CALSCALE:GREGORIAN
METHOD:PUBLISH
X-ORIGINAL-URL:https://gtqg.org
X-WR-CALDESC:Events for Golden Triangle Quilt Guild
REFRESH-INTERVAL;VALUE=DURATION:PT1H
X-Robots-Tag:noindex
X-PUBLISHED-TTL:PT1H
BEGIN:VTIMEZONE
TZID:America/Chicago
BEGIN:DAYLIGHT
TZOFFSETFROM:-0600
TZOFFSETTO:-0500
TZNAME:CDT
DTSTART:20260308T080000
END:DAYLIGHT
BEGIN:STANDARD
TZOFFSETFROM:-0500
TZOFFSETTO:-0600
TZNAME:CST
DTSTART:20261101T070000
END:STANDARD
END:VTIMEZONE
BEGIN:VEVENT
DTSTART;TZID=America/Chicago:20260521T103000
DTEND;TZID=America/Chicago:20260521T120000
DTSTAMP:20260421T042729
CREATED:20251218T005319Z
LAST-MODIFIED:20251218T010927Z
UID:4187-1779359400-1779364800@gtqg.org
SUMMARY:Tina Craig Lecture
DESCRIPTION:Christ Covenant Church\, 6390 North Major Drive\, Beaumont\, TX\, 77713 \n\n\n\n\n\n\n\n\n\nHi! I’m Tina Craig. I started quilting in 1990 as an unemployed newlywed looking for something to do. I took a beginner sampler quilt class at Colchester Mill Fabric Store and haven’t stopped stitching yet. I try to challenge myself to learn something new with every quilt.  \n\n\n\nWhen we moved to a seaside town in southern Rhode Island in 1997\, Seaside Stitches was born. Back then\, I was making and selling hundreds of paper-pieced quilt block lapel pins. Now\, I prefer to teach you how to make your own! \n\n\n\nI specialize in precision piecing (foundation paper piecing and English paper piecing) and domestic machine quilting. I enjoy learning new techniques and have even stepped out of my comfort zone to try art quilting. \n\n\n\nI love traveling to quilt guilds\, but will continue to be available on Zoom. My trunk shows are engaging and fun. Every quilt I show has a story to tell. Most of my workshops are technique-based\, so students leave with knowledge that translates to many future projects.
URL:https://gtqg.org/event/tina-craig-lecture/
ATTACH;FMTTYPE=image/jpeg:https://gtqg.org/wp-content/uploads/2025/12/Tina-Craig.jpg
END:VEVENT
BEGIN:VEVENT
DTSTART;TZID=America/Chicago:20260522T090000
DTEND;TZID=America/Chicago:20260522T150000
DTSTAMP:20260421T042729
CREATED:20251218T005732Z
LAST-MODIFIED:20251218T010950Z
UID:4190-1779440400-1779462000@gtqg.org
SUMMARY:EPP Design Party
DESCRIPTION:Christ Covenant Church\, 6390 North Major Drive\, Beaumont\, TX 77713 \n\n\n\n\n\n\n\n$25 for members; $35 for non-members \n\n\n\nLearn the basics of English Paper Piecing\, but go home with a project that is uniquely yours. We’ll be working with shapes based on 60° angles: hexagons\, diamonds\, jewels\, triangles and more. This is the fun side of geometry! Enjoy fussy cutting with Tina’s EPP tool\, The Wonder Window. Suitable for beginners\, this class will also engage experienced hand stitchers \n\n\n\nSupplies Fabric: assorted scraps\, charm squares\, fat eighths or fat quarters. Consider starting with a favorite print as a guide for choosing coordinating colors. Bring at least 4 coordinating fabrics  Additional fabric and batting will be needed after class to complete your project. \n\n\n\nFabric glue pen and re­fills\, any brand Needles: Straw or Milliner size 9\, 10 or 11 \n\n\n\nThin thread such as Superior Bottom Line (60 wt poly) or Wonder­l DecoBob in a neutral color \n\n\n\nFabric Scissors \n\n\n\nTape: paper tape or masking tape\, optional Thimble that works for you \n\n\n\n$10 class kit fee covers paper templates and handouts. EPP tool kits as well as individual items will be available for purchase from Tina. Please note that tool kits do not include fabric. Items may vary based on availability. \n\n\n\nFabric Options Almost any medium-scale print will produce lovely fussy-cut shapes. Here are some examples of jewel shapes made into hearts. Look for motifs that are approximately 1.5 -2” long. Stripes and symmetrical motifs are especially fun to work with. \n\n\n\nThere will be a sheet for suggestions for fabrics available at the April meeting.
URL:https://gtqg.org/event/epp-design-party/
ATTACH;FMTTYPE=image/jpeg:https://gtqg.org/wp-content/uploads/2025/12/EPP-Design-Party.jpg
END:VEVENT
END:VCALENDAR