BEGIN:VCALENDAR
VERSION:2.0
PRODID:-//Golden Triangle Quilt Guild - ECPv6.9.0//NONSGML v1.0//EN
CALSCALE:GREGORIAN
METHOD:PUBLISH
X-ORIGINAL-URL:https://gtqg.org
X-WR-CALDESC:Events for Golden Triangle Quilt Guild
REFRESH-INTERVAL;VALUE=DURATION:PT1H
X-Robots-Tag:noindex
X-PUBLISHED-TTL:PT1H
BEGIN:VTIMEZONE
TZID:America/Chicago
BEGIN:DAYLIGHT
TZOFFSETFROM:-0600
TZOFFSETTO:-0500
TZNAME:CDT
DTSTART:20260308T080000
END:DAYLIGHT
BEGIN:STANDARD
TZOFFSETFROM:-0500
TZOFFSETTO:-0600
TZNAME:CST
DTSTART:20261101T070000
END:STANDARD
END:VTIMEZONE
BEGIN:VEVENT
DTSTART;TZID=America/Chicago:20260319T103000
DTEND;TZID=America/Chicago:20260319T120000
DTSTAMP:20260421T042739
CREATED:20251218T002717Z
LAST-MODIFIED:20251218T010802Z
UID:4174-1773916200-1773921600@gtqg.org
SUMMARY:Jill Finley Trunk Show
DESCRIPTION:Christ Covenant Church\, 6390 North Major Drive\, Beaumont\, TX 77713 \n\n\n\nJill Finley is the owner and designer behind Jillily Studio. She has been designing quilt patterns for over 15 years and currently designs and sells quilt fabric\, patterns\, kits and notions. Her quilt designs show off her fresh style using high contrast fabrics and usually have a bit of applique to soften and finish each design. Jillily Studio produces the popular notions: Appli-Glue\, Poke-A-Dots\, Maker Paper\, Starch Brushes and Quilter’s Digits along with numerous kits and patterns. Jill is the author of several books on quilting; Home Sweet Quilt and Stitched Together.Jill is a Master Designer for Aurifil Threads and is also a BERNINA Ambassador. Her designs have been featured in several magazines including American Patchwork and Quilting\, Quilter’s Home and McCall’s Quilting. She stays busy traveling and teaching about her quilt designs and applique methods. Jill designs fabric with Riley Blake designs. Creating fabric collections for quilting has been one of Jill’s favorite projects.Jill loves to spend time with her family; eating\, reading\, gardening\, sewing\, cooking\, and learning. She and her husband Randy live in Alpine\, Utah and are the parents of seven children and fourteen grandchildren.
URL:https://gtqg.org/event/jill-finley-trunk-show/
ATTACH;FMTTYPE=image/jpeg:https://gtqg.org/wp-content/uploads/2025/12/Jill-Finley.jpg
END:VEVENT
BEGIN:VEVENT
DTSTART;TZID=America/Chicago:20260320T090000
DTEND;TZID=America/Chicago:20260320T150000
DTSTAMP:20260421T042739
CREATED:20251218T003556Z
LAST-MODIFIED:20260209T162853Z
UID:4178-1773997200-1774018800@gtqg.org
SUMMARY:Jill Finley - Dutch Delight
DESCRIPTION:Christ Covenant Church\, 6390 North Major Drive\, Beaumont\, TX 77713 \n\n\n\nWe will be piecing the blocks for the Dutch Delight quilt\, and then work on the applique. You will need to bring your fabrics\, pattern\, supplies\, and sewing machine. If you are interested in purchasing a kit\, they are available on her website: http://jillilystudio.com \n\n\n\nYou can also purchase a single pattern if you want to bring your own fabrics\, and any applique tools you may need on the jillily website\, or at one of our local quilt shops. See the supply list below. \n\n\n\n$25 for members; $35 for non-members \n\n\n\nSupply List
URL:https://gtqg.org/event/jill-finley-class-tba/
ATTACH;FMTTYPE=image/png:https://gtqg.org/wp-content/uploads/2026/01/IMG_6851.png
END:VEVENT
END:VCALENDAR